BEGIN:VCALENDAR
VERSION:2.0
PRODID:-//前行营  - ECPv6.15.11//NONSGML v1.0//EN
CALSCALE:GREGORIAN
METHOD:PUBLISH
X-WR-CALNAME:前行营 
X-ORIGINAL-URL:https://ngondrogar.org/zh-hans/
X-WR-CALDESC:前行营 的活动
REFRESH-INTERVAL;VALUE=DURATION:PT1H
X-Robots-Tag:noindex
X-PUBLISHED-TTL:PT1H
BEGIN:VTIMEZONE
TZID:UTC
BEGIN:STANDARD
TZOFFSETFROM:+0000
TZOFFSETTO:+0000
TZNAME:UTC
DTSTART:20250101T000000
END:STANDARD
END:VTIMEZONE
BEGIN:VEVENT
DTSTART;TZID=UTC:20260419T020000
DTEND;TZID=UTC:20260419T033000
DTSTAMP:20260419T135408
CREATED:20230517T044723Z
LAST-MODIFIED:20260121T085514Z
UID:10001111-1776564000-1776569400@ngondrogar.org
SUMMARY:红观音中文线上共修 (每月第三个周日，中原时间早上10：00）
DESCRIPTION:会议号: 815 4381 2984\n密码: 849643
URL:https://ngondrogar.org/zh-hans/event/%e7%ba%a2%e8%a7%82%e9%9f%b3%e4%b8%ad%e6%96%87%e7%ba%bf%e4%b8%8a%e5%85%b1%e4%bf%ae-2/2026-04-19/
LOCATION:线上
END:VEVENT
END:VCALENDAR